BEGIN:VCALENDAR
VERSION:2.0
PRODID:-//Iglesia El Encuentro - ECPv6.15.20//NONSGML v1.0//EN
CALSCALE:GREGORIAN
METHOD:PUBLISH
X-WR-CALNAME:Iglesia El Encuentro
X-ORIGINAL-URL:https://iglesiaelencuentro.com
X-WR-CALDESC:Eventos para Iglesia El Encuentro
REFRESH-INTERVAL;VALUE=DURATION:PT1H
X-Robots-Tag:noindex
X-PUBLISHED-TTL:PT1H
BEGIN:VTIMEZONE
TZID:UTC
BEGIN:STANDARD
TZOFFSETFROM:+0000
TZOFFSETTO:+0000
TZNAME:UTC
DTSTART:20230101T000000
END:STANDARD
END:VTIMEZONE
BEGIN:VEVENT
DTSTART;TZID=UTC:20240525T090000
DTEND;TZID=UTC:20240525T150000
DTSTAMP:20260423T041701
CREATED:20240520T025003Z
LAST-MODIFIED:20240520T141141Z
UID:5538-1716627600-1716649200@iglesiaelencuentro.com
SUMMARY:Cumbre de oración
DESCRIPTION:
URL:https://iglesiaelencuentro.com/event/cumbre-de-oracion/
LOCATION:Iglesia El Encuentro\, Carrera 20 #81-55\, Bogotá\, Cundinamarca\, 111115\, Colombia
CATEGORIES:Iglesia El Encuentro
END:VEVENT
END:VCALENDAR