BEGIN:VCALENDAR
VERSION:2.0
PRODID:-//Iglesia El Encuentro - ECPv6.15.20//NONSGML v1.0//EN
CALSCALE:GREGORIAN
METHOD:PUBLISH
X-ORIGINAL-URL:https://iglesiaelencuentro.com
X-WR-CALDESC:Eventos para Iglesia El Encuentro
REFRESH-INTERVAL;VALUE=DURATION:PT1H
X-Robots-Tag:noindex
X-PUBLISHED-TTL:PT1H
BEGIN:VTIMEZONE
TZID:UTC
BEGIN:STANDARD
TZOFFSETFROM:+0000
TZOFFSETTO:+0000
TZNAME:UTC
DTSTART:20210101T000000
END:STANDARD
END:VTIMEZONE
BEGIN:VEVENT
DTSTART;TZID=UTC:20260419T100000
DTEND;TZID=UTC:20260419T100000
DTSTAMP:20260419T130541
CREATED:20260419T070005Z
LAST-MODIFIED:20260419T070005Z
UID:3290-1776592800-1776592800@iglesiaelencuentro.com
SUMMARY:Culto
DESCRIPTION:Celebramos nuestro culto a las 10 A.M.
URL:https://iglesiaelencuentro.com/event/culto-nocturno-2/
LOCATION:Iglesia El Encuentro\, Carrera 20 #81-55\, Bogotá\, Cundinamarca\, 111115\, Colombia
END:VEVENT
BEGIN:VEVENT
DTSTART;TZID=UTC:20260416T180000
DTEND;TZID=UTC:20260416T200000
DTSTAMP:20260419T130541
CREATED:20260416T070005Z
LAST-MODIFIED:20260416T070005Z
UID:6239-1776362400-1776369600@iglesiaelencuentro.com
SUMMARY:Experiencias
DESCRIPTION:
URL:https://iglesiaelencuentro.com/event/experiencias/
LOCATION:Iglesia El Encuentro\, Carrera 20 #81-55\, Bogotá\, Cundinamarca\, 111115\, Colombia
END:VEVENT
BEGIN:VEVENT
DTSTART;TZID=UTC:20260328T090000
DTEND;TZID=UTC:20260328T130000
DTSTAMP:20260419T130541
CREATED:20260328T070006Z
LAST-MODIFIED:20260328T070006Z
UID:6231-1774688400-1774702800@iglesiaelencuentro.com
SUMMARY:Encuentro de Actualización
DESCRIPTION:
URL:https://iglesiaelencuentro.com/event/encuentro-de-actualizacion/
LOCATION:Iglesia El Encuentro\, Carrera 20 #81-55\, Bogotá\, Cundinamarca\, 111115\, Colombia
END:VEVENT
BEGIN:VEVENT
DTSTART;TZID=UTC:20251225T080000
DTEND;TZID=UTC:20251225T170000
DTSTAMP:20260419T130541
CREATED:20221014T034907Z
LAST-MODIFIED:20260311T210000Z
UID:3230-1766649600-1766682000@iglesiaelencuentro.com
SUMMARY:Coro El Encuentro
DESCRIPTION:Te invitamos a ser parte del Coro\, para dar Gloria a Dios y anunciar que Jesús es nuestro Salvador\, nuestra paz\, nuestra esperanza. Realiza tu inscripción a través del app o en punto e y levantemos juntos la voz para adorar y exaltar su nombre. Mayores Informes Pstr. Hernando Manrique.
URL:https://iglesiaelencuentro.com/event/3230/
LOCATION:Iglesia El Encuentro\, Carrera 20 #81-55\, Bogotá\, Cundinamarca\, 111115\, Colombia
CATEGORIES:Iglesia El Encuentro
ATTACH;FMTTYPE=image/jpeg:https://iglesiaelencuentro.com/wp-content/uploads/2022/10/WhatsApp-Image-2024-11-05-at-4.22.14-PM.jpeg
END:VEVENT
BEGIN:VEVENT
DTSTART;TZID=UTC:20251214T080000
DTEND;TZID=UTC:20251219T170000
DTSTAMP:20260419T130541
CREATED:20251207T193113Z
LAST-MODIFIED:20251207T193113Z
UID:6147-1765699200-1766163600@iglesiaelencuentro.com
SUMMARY:Desafío Navideño
DESCRIPTION:
URL:https://iglesiaelencuentro.com/event/desafio-navideno/
LOCATION:Iglesia El Encuentro\, Carrera 20 #81-55\, Bogotá\, Cundinamarca\, 111115\, Colombia
CATEGORIES:Iglesia El Encuentro
ATTACH;FMTTYPE=image/jpeg:https://iglesiaelencuentro.com/wp-content/uploads/2025/12/WhatsApp-Image-2025-12-07-at-2.28.30-PM.jpeg
END:VEVENT
BEGIN:VEVENT
DTSTART;TZID=UTC:20251129T090000
DTEND;TZID=UTC:20251130T170000
DTSTAMP:20260419T130541
CREATED:20230426T203745Z
LAST-MODIFIED:20251116T170430Z
UID:4246-1764406800-1764522000@iglesiaelencuentro.com
SUMMARY:Encuentro de Parejas
DESCRIPTION:Un espacio para desconectarnos y descubrir como Dios\, el gran tejedor\, obra en medio de nuestras vidas.
URL:https://iglesiaelencuentro.com/event/encuentro-de-parejas/
LOCATION:Iglesia El Encuentro\, Carrera 20 #81-55\, Bogotá\, Cundinamarca\, 111115\, Colombia
CATEGORIES:Parejas
END:VEVENT
BEGIN:VEVENT
DTSTART;VALUE=DATE:20251108
DTEND;VALUE=DATE:20251109
DTSTAMP:20260419T130541
CREATED:20230426T203027Z
LAST-MODIFIED:20251012T162703Z
UID:4237-1762560000-1762646399@iglesiaelencuentro.com
SUMMARY:Encuentro de Hombres
DESCRIPTION:Un espacio para desconectarnos y descubrir como Dios obra en la vida de cada hombre
URL:https://iglesiaelencuentro.com/event/encuentro-de-hombres/
LOCATION:Iglesia El Encuentro\, Carrera 20 #81-55\, Bogotá\, Cundinamarca\, 111115\, Colombia
CATEGORIES:Hombres
ATTACH;FMTTYPE=image/png:https://iglesiaelencuentro.com/wp-content/uploads/2023/04/encuentro-de-hombres.png
END:VEVENT
BEGIN:VEVENT
DTSTART;TZID=UTC:20251025T090000
DTEND;TZID=UTC:20251025T170000
DTSTAMP:20260419T130541
CREATED:20230425T181315Z
LAST-MODIFIED:20251005T165632Z
UID:4107-1761382800-1761411600@iglesiaelencuentro.com
SUMMARY:Encuentro de Mujeres
DESCRIPTION:Un espacio para desconectarnos y descubrir como Dios\, el gran tejedor\, obra en medio de nuestras vidas.
URL:https://iglesiaelencuentro.com/event/encuentro-de-mujeres/
LOCATION:Iglesia El Encuentro\, Carrera 20 #81-55\, Bogotá\, Cundinamarca\, 111115\, Colombia
CATEGORIES:Mujeres
ATTACH;FMTTYPE=image/jpeg:https://iglesiaelencuentro.com/wp-content/uploads/2023/04/WhatsApp-Image-2025-10-05-at-11.53.36-AM.jpeg
END:VEVENT
BEGIN:VEVENT
DTSTART;TZID=UTC:20250831T080000
DTEND;TZID=UTC:20250907T170000
DTSTAMP:20260419T130541
CREATED:20221127T155917Z
LAST-MODIFIED:20250803T160906Z
UID:3286-1756627200-1757264400@iglesiaelencuentro.com
SUMMARY:Misión Pacífico
DESCRIPTION:Vamos a Misión Pacifico! Si estás interesado te invitamos a inscribirte en el siguiente link para recibir toda la información y capacitarnos juntos!
URL:https://iglesiaelencuentro.com/event/mision-bogota/
LOCATION:Cundinamarca
END:VEVENT
BEGIN:VEVENT
DTSTART;TZID=UTC:20250718T163000
DTEND;TZID=UTC:20250720T170000
DTSTAMP:20260419T130541
CREATED:20250702T185002Z
LAST-MODIFIED:20250706T211144Z
UID:5804-1752856200-1753030800@iglesiaelencuentro.com
SUMMARY:Encuentro Jóvenes MAZ
DESCRIPTION:
URL:https://iglesiaelencuentro.com/event/encuentro-jovenes-maz/
LOCATION:Iglesia El Encuentro\, Carrera 20 #81-55\, Bogotá\, Cundinamarca\, 111115\, Colombia
CATEGORIES:Jóvenes
END:VEVENT
BEGIN:VEVENT
DTSTART;TZID=UTC:20250628T080000
DTEND;TZID=UTC:20250629T170000
DTSTAMP:20260419T130541
CREATED:20250622T163536Z
LAST-MODIFIED:20260311T205927Z
UID:5800-1751097600-1751216400@iglesiaelencuentro.com
SUMMARY:Encuentro Jóvenes Junior
DESCRIPTION:
URL:https://iglesiaelencuentro.com/event/encuentro-jovenes-junior-live-in/
LOCATION:Chinauta\, Chinauta\, Cundinamarca\, Colombia
CATEGORIES:Jóvenes
END:VEVENT
BEGIN:VEVENT
DTSTART;TZID=UTC:20250430T190000
DTEND;TZID=UTC:20250430T233000
DTSTAMP:20260419T130541
CREATED:20250427T151818Z
LAST-MODIFIED:20250430T165337Z
UID:5790-1746039600-1746055800@iglesiaelencuentro.com
SUMMARY:Vigilia
DESCRIPTION:
URL:https://iglesiaelencuentro.com/event/vigilia/
LOCATION:Cundinamarca
CATEGORIES:Iglesia El Encuentro
ATTACH;FMTTYPE=image/jpeg:https://iglesiaelencuentro.com/wp-content/uploads/2025/04/bcb56a34-68b3-492c-9c04-51343fbbf804.jpeg
END:VEVENT
BEGIN:VEVENT
DTSTART;TZID=UTC:20240525T090000
DTEND;TZID=UTC:20240525T150000
DTSTAMP:20260419T130541
CREATED:20240520T025003Z
LAST-MODIFIED:20240520T141141Z
UID:5538-1716627600-1716649200@iglesiaelencuentro.com
SUMMARY:Cumbre de oración
DESCRIPTION:
URL:https://iglesiaelencuentro.com/event/cumbre-de-oracion/
LOCATION:Iglesia El Encuentro\, Carrera 20 #81-55\, Bogotá\, Cundinamarca\, 111115\, Colombia
CATEGORIES:Iglesia El Encuentro
END:VEVENT
BEGIN:VEVENT
DTSTART;TZID=UTC:20230730T090000
DTEND;TZID=UTC:20230730T170000
DTSTAMP:20260419T130541
CREATED:20230507T024757Z
LAST-MODIFIED:20230723T130609Z
UID:4392-1690707600-1690736400@iglesiaelencuentro.com
SUMMARY:Celebración Pequeños Aliancistas
DESCRIPTION:El domingo 30 de julio tendremos nuestra reunión de celebración de pequeños aliancistas. Un tiempo para disfrutar en familia\, papas e hijos\, les esperamos a las 9:00 am en el polideportivo. No llegues tarde\, será un tiempo especial!!!
URL:https://iglesiaelencuentro.com/event/celebracion-pequenos-aliancistas/
LOCATION:Iglesia El Encuentro\, Carrera 20 #81-55\, Bogotá\, Cundinamarca\, 111115\, Colombia
END:VEVENT
BEGIN:VEVENT
DTSTART;TZID=UTC:20230709T100000
DTEND;TZID=UTC:20230709T230000
DTSTAMP:20260419T130541
CREATED:20230312T171148Z
LAST-MODIFIED:20230707T035934Z
UID:3712-1688896800-1688943600@iglesiaelencuentro.com
SUMMARY:Reunión ministerial de Jóvenes Junior
DESCRIPTION:Compartimos\, aprendemos\, crecemos y somor transformados por Dios. Jóvenes desde los 11 años hasta los 17 años. JJ (Jóvenes Junior) un espacio para vivir una juventud que agrada a Dios.
URL:https://iglesiaelencuentro.com/event/tiempo-especial-jovenes-junior/
LOCATION:Iglesia El Encuentro\, Carrera 20 #81-55\, Bogotá\, Cundinamarca\, 111115\, Colombia
END:VEVENT
BEGIN:VEVENT
DTSTART;TZID=UTC:20230617T090000
DTEND;TZID=UTC:20230617T170000
DTSTAMP:20260419T130541
CREATED:20230426T204043Z
LAST-MODIFIED:20260311T205943Z
UID:4249-1686992400-1687021200@iglesiaelencuentro.com
SUMMARY:Encuentro de Pequeños Aliancistas
DESCRIPTION:Un espacio para desconectarnos y descubrir como Dios\, el gran tejedor\, obra en medio de nuestras vidas.
URL:https://iglesiaelencuentro.com/event/encuentro-de-pequenos-aliancistas/
LOCATION:Iglesia El Encuentro\, Carrera 20 #81-55\, Bogotá\, Cundinamarca\, 111115\, Colombia
CATEGORIES:Pequeños Aliancistas
END:VEVENT
BEGIN:VEVENT
DTSTART;TZID=UTC:20221210T080000
DTEND;TZID=UTC:20221210T170000
DTSTAMP:20260419T130541
CREATED:20221127T155741Z
LAST-MODIFIED:20221127T162936Z
UID:3284-1670659200-1670691600@iglesiaelencuentro.com
SUMMARY:Retiro de siervos
DESCRIPTION:Un tiempo especial para todos aquellos que hacen parte de los equipos de apoyo y de trabajo de los grupos ministeriales. \nMayores informes con los pastores encargados de cada ministerio.
URL:https://iglesiaelencuentro.com/event/retiro-de-siervos/
LOCATION:Cundinamarca
END:VEVENT
END:VCALENDAR